BEGIN:VCALENDAR
VERSION:2.0
PRODID:-//Tukios.com/
BEGIN:VEVENT
UID:cc9386d0-a982-4f59-81b7-31b47073c3ba@www.adignifiedalternative.net
DTSTAMP:20260423T223726Z
DTSTART:20260516T190000Z
DTEND:20260516T200000Z
SUMMARY:Memorial Service
DESCRIPTION:
URL:https://www.adignifiedalternative.net/obituaries/donald-mccoin
LOCATION:Geneva Presbyterian Church 1820 State Road 13 North  Fruit Cove 
	FL 32259
GEO:30.0824017;-81.6400109
END:VEVENT
END:VCALENDAR