BEGIN:VCALENDAR
VERSION:2.0
PRODID:-//Tukios.com/
BEGIN:VEVENT
UID:23b81f45-11e3-4cc3-8d52-a514aace576f@www.adignifiedalternative.net
DTSTAMP:20260420T211722Z
DTSTART:20260502T150000Z
DTEND:20260502T160000Z
SUMMARY:Memorial Service
DESCRIPTION:
URL:https://www.adignifiedalternative.net/obituaries/michael-searcy
LOCATION:Franklin Street Baptist Church 2521 Franklin Street  
	Jacksonville FL 32206
GEO:30.3532676;-81.638637
END:VEVENT
END:VCALENDAR